BEGIN:VCALENDAR
VERSION:2.0
PRODID:-//CKDH - ECPv4.6.26//NONSGML v1.0//EN
CALSCALE:GREGORIAN
METHOD:PUBLISH
X-WR-CALNAME:CKDH
X-ORIGINAL-URL:https://ckdh.com
X-WR-CALDESC:Events for CKDH
BEGIN:VEVENT
DTSTART;TZID=UTC+0:20170420T180000
DTEND;TZID=UTC+0:20170420T180000
DTSTAMP:20260419T133703
CREATED:20170420T174847Z
LAST-MODIFIED:20170420T174847Z
UID:734-1492711200-1492711200@ckdh.com
SUMMARY:Wills and Living Wills Presentation
DESCRIPTION:Bill Fairbanks of the The Cumberland Barrister’s Association\, will be giving a presentation tonight on Wills and Living Wills\, Power of Attorney Designations and more\, tonight from 6-7:30 at the Four Fathers Memorial Library. For more information\, call 902-667-2549. \n
URL:https://ckdh.com/event/wills-and-living-wills-presentation/
END:VEVENT
END:VCALENDAR