BEGIN:VCALENDAR
VERSION:2.0
PRODID:-//CKDH - ECPv4.6.26//NONSGML v1.0//EN
CALSCALE:GREGORIAN
METHOD:PUBLISH
X-WR-CALNAME:CKDH
X-ORIGINAL-URL:https://ckdh.com
X-WR-CALDESC:Events for CKDH
BEGIN:VEVENT
DTSTART;VALUE=DATE:20190619
DTEND;VALUE=DATE:20190620
DTSTAMP:20260421T103353
CREATED:20190527T153511Z
LAST-MODIFIED:20190527T153511Z
UID:6134-1560902400-1560988799@ckdh.com
SUMMARY:Win $100 of Seafood From Chase's Lobster Pound
DESCRIPTION:The All Saints Springhill Hospital Auxiliary member are selling tickets again this year on $100 worth of Seafood from Chase’s Lobster Pound in Port Howe. The auxiliary raises funds for much needed equipment for the Springhill hospital and  also for scholarships for students entering the health care field at both NSCC & university. Tickets are $2 each or 3 for $5 and can be purchased at the gift shop or from any Auxiliary member. Draw date is June 19. \n
URL:https://ckdh.com/event/win-100-of-seafood-from-chases-lobster-pound/
END:VEVENT
END:VCALENDAR