BEGIN:VCALENDAR
VERSION:2.0
PRODID:-//CKDH - ECPv4.6.26//NONSGML v1.0//EN
CALSCALE:GREGORIAN
METHOD:PUBLISH
X-WR-CALNAME:CKDH
X-ORIGINAL-URL:https://ckdh.com
X-WR-CALDESC:Events for CKDH
BEGIN:VEVENT
DTSTART;VALUE=DATE:20210115
DTEND;VALUE=DATE:20210116
DTSTAMP:20260419T132552
CREATED:20210115T134854Z
LAST-MODIFIED:20210115T134854Z
UID:8309-1610668800-1610755199@ckdh.com
SUMMARY:Win a Diamond Ring Set
DESCRIPTION:Cumberland County Hospice Palliative Care Society is selling tickets on a Beautiful Diamond Ring Set. Tickets are $10 each and only 100 tickets will be sold. Draw date is Friday February 12 or when all tickets are sold. They are available at their office in the Amherst Centre\, call 902-669-0261 or available from their volunteers. Stop by their office to see ring set. The size is 6 ¾\, the most common woman’s size. \n
URL:https://ckdh.com/event/win-a-diamond-ring-set/
END:VEVENT
END:VCALENDAR