BEGIN:VCALENDAR
VERSION:2.0
PRODID:-//CKDH - ECPv4.6.26//NONSGML v1.0//EN
CALSCALE:GREGORIAN
METHOD:PUBLISH
X-WR-CALNAME:CKDH
X-ORIGINAL-URL:https://ckdh.com
X-WR-CALDESC:Events for CKDH
BEGIN:VEVENT
DTSTART;TZID=UTC+0:20170528T100000
DTEND;TZID=UTC+0:20170528T140000
DTSTAMP:20260421T151436
CREATED:20170511T164910Z
LAST-MODIFIED:20170511T164910Z
UID:863-1495965600-1495980000@ckdh.com
SUMMARY:Write-In Joggins
DESCRIPTION:The next gathering of Write-In Joggins will be held at the Joggins Fossil Centre on Sunday May 28th from 10-2.  If you are a writer bring your laptop\, tablet\, or simply a pen and paper and write to your hearts’ content while overlooking the beautiful Cumberland Basin and the Joggins Fossil Cliffs UNESCO. There is no fee to attend and no registration required. Wi-Fi is available\, and you can bring your lunch/snacks. Coffee and tea will be provided.   For more information\, contact Laurie at 902-251-2727 Ext. 224 or education@jogginsfossilcliffs.net. \n
URL:https://ckdh.com/event/write-in-joggins-2/
END:VEVENT
END:VCALENDAR