BEGIN:VCALENDAR
VERSION:2.0
PRODID:-//CKDH - ECPv4.6.26//NONSGML v1.0//EN
CALSCALE:GREGORIAN
METHOD:PUBLISH
X-WR-CALNAME:CKDH
X-ORIGINAL-URL:https://ckdh.com
X-WR-CALDESC:Events for CKDH
BEGIN:VEVENT
DTSTART;TZID=UTC+0:20170409T100000
DTEND;TZID=UTC+0:20170409T140000
DTSTAMP:20260422T105815
CREATED:20170403T184137Z
LAST-MODIFIED:20170403T184137Z
UID:515-1491732000-1491746400@ckdh.com
SUMMARY:Write-In Joggins
DESCRIPTION:The next gathering of Write-In Joggins will be held at the Joggins Fossil Centre on Sunday April 9th from 10:00 a.m. to 2:00 p.m.  You’re invited to bring your laptops\, tablet\, or simply a pen and paper and write to your hearts’ content while overlooking the beautiful Cumberland Basin and the Joggins Fossil Cliffs UNESCO World Heritage Site. It’s an ideal spot for inspiration\, contemplation and getting words down on paper or on the computer screen.   There is no fee to attend and no registration required. Wi-Fi is available\, and you can bring your lunch/snacks. For more information on Write-In Joggins\, contact Laurie at 902-251-2727 \n
URL:https://ckdh.com/event/write-in-joggins/
END:VEVENT
END:VCALENDAR