BEGIN:VCALENDAR
VERSION:2.0
PRODID:-//CKDH - ECPv4.6.26//NONSGML v1.0//EN
CALSCALE:GREGORIAN
METHOD:PUBLISH
X-WR-CALNAME:CKDH
X-ORIGINAL-URL:https://ckdh.com
X-WR-CALDESC:Events for CKDH
BEGIN:VEVENT
DTSTART;TZID=America/Halifax:20181217T180000
DTEND;TZID=America/Halifax:20181217T200000
DTSTAMP:20260424T131837
CREATED:20181210T165451Z
LAST-MODIFIED:20181210T165451Z
UID:5304-1545069600-1545076800@ckdh.com
SUMMARY:Y International Cooking Class
DESCRIPTION:The next Y International Cooking Class will feature a taste of Thailand with Sue Scott\, Monday Dec 17 from 6-8 at Maggie’s Place. Space is limited\, so email heeyeon.son@halifax.ymca.ca or call 902-397-1787. Bring along a non-perishable food donation for the Food Bank. \n  \n
URL:https://ckdh.com/event/y-international-cooking-class/
END:VEVENT
END:VCALENDAR