BEGIN:VCALENDAR
VERSION:2.0
PRODID:-//CKDH - ECPv4.6.26//NONSGML v1.0//EN
CALSCALE:GREGORIAN
METHOD:PUBLISH
X-WR-CALNAME:CKDH
X-ORIGINAL-URL:https://ckdh.com
X-WR-CALDESC:Events for CKDH
BEGIN:VEVENT
DTSTART;VALUE=DATE:20201027
DTEND;VALUE=DATE:20201028
DTSTAMP:20260419T125803
CREATED:20201026T150421Z
LAST-MODIFIED:20201026T150421Z
UID:8071-1603756800-1603843199@ckdh.com
SUMMARY:Y Membership Promotion
DESCRIPTION:The YMCA of Cumberland will be offering a Membership Promotion until November 14. Are you ready to get back to your health and fitness routine? Join the YMCA today and get your first month for just $20 for individuals or $50 for families when you sign up for a continuous membership! Your Y membership includes access to all group fitness classes\, member swim times and the member exclusive YThrive program – designed to help you reach your goals\, no matter your current level of fitness. Offer ends November 14. Call the Y for more information\, 902-667-9112. \n
URL:https://ckdh.com/event/y-membership-promotion/
END:VEVENT
END:VCALENDAR