BEGIN:VCALENDAR
VERSION:2.0
PRODID:-//CKDH - ECPv4.6.26//NONSGML v1.0//EN
CALSCALE:GREGORIAN
METHOD:PUBLISH
X-WR-CALNAME:CKDH
X-ORIGINAL-URL:https://ckdh.com
X-WR-CALDESC:Events for CKDH
BEGIN:VEVENT
DTSTART;VALUE=DATE:20170130
DTEND;VALUE=DATE:20170131
DTSTAMP:20260424T133141
CREATED:20170215T235030Z
LAST-MODIFIED:20170215T235030Z
UID:114-1485734400-1485820799@ckdh.com
SUMMARY:Y-REACH International Cooking Class
DESCRIPTION:The next Y-REACH International Cooking Class\, will be a taste of the Phillippines with Jessica Hoeg. It’s Monday Jan 30 from 6-8 at Maggie’s Place. The event is free\, but a donation to the Food Bank will be accepted. RSVP Brent Noiles at 902-667-9112 or email brent_noiles@ymca.ca \n
URL:https://ckdh.com/event/y-reach-international-cooking-class/
END:VEVENT
END:VCALENDAR