BEGIN:VCALENDAR
VERSION:2.0
PRODID:-//CKDH - ECPv4.6.26//NONSGML v1.0//EN
CALSCALE:GREGORIAN
METHOD:PUBLISH
X-WR-CALNAME:CKDH
X-ORIGINAL-URL:https://ckdh.com
X-WR-CALDESC:Events for CKDH
BEGIN:VEVENT
DTSTART;TZID=America/Halifax:20180707T103000
DTEND;TZID=America/Halifax:20180707T140000
DTSTAMP:20260422T143536
CREATED:20180627T151907Z
LAST-MODIFIED:20180627T151907Z
UID:2217-1530959400-1530972000@ckdh.com
SUMMARY:Yard Sale and Pulled Pork Take-out
DESCRIPTION:There will be an Indoor Yard Sale and Pulled Pork Take-out\, Say Jul 7 from 10:30-2 at the Highland A.M.E Church. Pulled Pork on a Kaiser bun\, with potato salad for $10. Proceeds will assist with church expenses. \n
URL:https://ckdh.com/event/yard-sale-and-pulled-pork-take-out/
END:VEVENT
END:VCALENDAR