BEGIN:VCALENDAR
VERSION:2.0
PRODID:-//CKDH - ECPv4.6.26//NONSGML v1.0//EN
CALSCALE:GREGORIAN
METHOD:PUBLISH
X-WR-CALNAME:CKDH
X-ORIGINAL-URL:https://ckdh.com
X-WR-CALDESC:Events for CKDH
BEGIN:VEVENT
DTSTART;VALUE=DATE:20201210
DTEND;VALUE=DATE:20201211
DTSTAMP:20260421T112434
CREATED:20201207T153402Z
LAST-MODIFIED:20201207T153402Z
UID:8221-1607558400-1607644799@ckdh.com
SUMMARY:YMCA - Friday Night Fun
DESCRIPTION:Sign up for Friday Night Fun at the YMCA of Cumberland. The program includes: A fun night of activities including crafts\, games\, canteen and swimming. \nAges 5-8 can go between 6 and 7:45. Ages 9-14 between 7:45 and 9. \nAdmission $2 (paid on arrival). Online registration is required\, starting every Thursday for the upcoming session. Registration ends when the program is full (max. 45 participants) or at 5:00 p.m. the day of. \nTo register go to ymcaofcumberland.com/onlineregistration \n*Drop-in is not available and masks must be worn by participants\, where required \n
URL:https://ckdh.com/event/ymca-friday-night-fun/
END:VEVENT
END:VCALENDAR