BEGIN:VCALENDAR
VERSION:2.0
PRODID:-//CKDH - ECPv4.6.26//NONSGML v1.0//EN
CALSCALE:GREGORIAN
METHOD:PUBLISH
X-WR-CALNAME:CKDH
X-ORIGINAL-URL:https://ckdh.com
X-WR-CALDESC:Events for CKDH
BEGIN:VEVENT
DTSTART;TZID=America/Halifax:20181004T100000
DTEND;TZID=America/Halifax:20181004T150000
DTSTAMP:20260419T180042
CREATED:20180924T152300Z
LAST-MODIFIED:20180924T152300Z
UID:4959-1538647200-1538665200@ckdh.com
SUMMARY:YMCA - Strong Kids Ball Hockey Tournament
DESCRIPTION:The YMCA of Cumberland’s Strong Kids Ball Hockey Tournament is Thursday Oct 4\, 10-3\, in the Y parking lot. The cost is $35 per team\, with a maximum of 7\, minimum of 5 players. Individuals can enter for $7\, and will be placed on a team. There are 2 age categories 7-10 and 11-14. Advanced registration is required\, at the Y front desk\, call 902-667-9112. Proceeds to the Y’s Strong Kids Campaign. \n
URL:https://ckdh.com/event/ymca-strong-kids-ball-hockey-tournament/
END:VEVENT
END:VCALENDAR