BEGIN:VCALENDAR
VERSION:2.0
PRODID:-//CKDH - ECPv4.6.26//NONSGML v1.0//EN
CALSCALE:GREGORIAN
METHOD:PUBLISH
X-WR-CALNAME:CKDH
X-ORIGINAL-URL:https://ckdh.com
X-WR-CALDESC:Events for CKDH
BEGIN:VEVENT
DTSTART;TZID=UTC+0:20170920T190000
DTEND;TZID=UTC+0:20170920T210000
DTSTAMP:20260423T175149
CREATED:20170918T191037Z
LAST-MODIFIED:20170918T191037Z
UID:1495-1505934000-1505941200@ckdh.com
SUMMARY:Young At Heart Games Night
DESCRIPTION:If you like to play card games or board games\, you’ll want to be part of Young At Heart Games Night\, Wednesdays from 7-9 at Dufferin Den\, the former Lions Den on Dufferin Street in Sackville. \n
URL:https://ckdh.com/event/young-at-heart-games-night-2/
END:VEVENT
END:VCALENDAR