BEGIN:VCALENDAR
VERSION:2.0
PRODID:-//CKDH - ECPv4.6.26//NONSGML v1.0//EN
CALSCALE:GREGORIAN
METHOD:PUBLISH
X-WR-CALNAME:CKDH
X-ORIGINAL-URL:https://ckdh.com
X-WR-CALDESC:Events for CKDH
BEGIN:VEVENT
DTSTART;TZID=UTC+0:20170329T190000
DTEND;TZID=UTC+0:20170329T190000
DTSTAMP:20260420T072407
CREATED:20170327T164109Z
LAST-MODIFIED:20170327T164743Z
UID:416-1490814000-1490814000@ckdh.com
SUMMARY:Young At Heart Games Night
DESCRIPTION:There’s another Young At Heart Games Night\, every Wednesday at 7 til the end of May at the Dufferin Den in Sackville. If you are 50+ it’s a night of cards and board games. Admission is by donation\, with proceeds for building maintenance. \n
URL:https://ckdh.com/event/young-at-heart-games-night/2017-03-29/
END:VEVENT
END:VCALENDAR