BEGIN:VCALENDAR
VERSION:2.0
PRODID:-//CKDH - ECPv4.6.26//NONSGML v1.0//EN
CALSCALE:GREGORIAN
METHOD:PUBLISH
X-WR-CALNAME:CKDH
X-ORIGINAL-URL:https://ckdh.com
X-WR-CALDESC:Events for CKDH
BEGIN:VEVENT
DTSTART;TZID=America/Halifax:20190115T180000
DTEND;TZID=America/Halifax:20190115T190000
DTSTAMP:20260422T125307
CREATED:20190110T152855Z
LAST-MODIFIED:20190110T152855Z
UID:5450-1547575200-1547578800@ckdh.com
SUMMARY:Youth Breakout - Harry Potter
DESCRIPTION:In partnership with the YMCA Full of Life Program and Cumberland Public Libraries\, Youth Breakout is back at the Y. Tuesday Jan 15 from 6-6:45\, there will be a Harry Potter themed break out night. It’s similar to an escape room\, where you will be faced with different challenges and clues that will test your critical thinking and teamwork skills. Space is limited so call 902-667-9112 or email emily.wheaton@cumberland.ymca.ca. This event is for grades 5-12 and is free because it’s a Full of Life Program. \n
URL:https://ckdh.com/event/youth-breakout-harry-potter/
END:VEVENT
END:VCALENDAR