BEGIN:VCALENDAR
VERSION:2.0
PRODID:-//CKDH - ECPv4.6.26//NONSGML v1.0//EN
CALSCALE:GREGORIAN
METHOD:PUBLISH
X-WR-CALNAME:CKDH
X-ORIGINAL-URL:https://ckdh.com
X-WR-CALDESC:Events for CKDH
BEGIN:VEVENT
DTSTART;TZID=UTC+0:20171023T180000
DTEND;TZID=UTC+0:20171023T180000
DTSTAMP:20260419T235410
CREATED:20171005T182911Z
LAST-MODIFIED:20171005T182911Z
UID:1586-1508781600-1508781600@ckdh.com
SUMMARY:YREACH International Cooking Class
DESCRIPTION:The Next YREACH International Cooking Class will feature a taste of Germany with Morris Haugg. It’s Monday Oct 23 from 6-8 at Maggie’s Place. If you are going RSVP Brent Noiles at the Cumberland Y at 902-667-9112. There is only room for 15 participants and remember a donation for the Food Bank. \n
URL:https://ckdh.com/event/yreach-international-cooking-class/
END:VEVENT
END:VCALENDAR