BEGIN:VCALENDAR
VERSION:2.0
PRODID:-//CKDH - ECPv4.6.26//NONSGML v1.0//EN
CALSCALE:GREGORIAN
METHOD:PUBLISH
X-WR-CALNAME:CKDH
X-ORIGINAL-URL:https://ckdh.com
X-WR-CALDESC:Events for CKDH
BEGIN:VEVENT
DTSTART;VALUE=DATE:20180827
DTEND;VALUE=DATE:20180902
DTSTAMP:20260424T120205
CREATED:20180809T132100Z
LAST-MODIFIED:20180809T132100Z
UID:4800-1535328000-1535846399@ckdh.com
SUMMARY:100th Cumberland County Exhibition
DESCRIPTION:The Cumberland County Exhibition is celebrating it’s 100th Anniversary this year. It’s Aug 27-Sept 1 in Oxford.The exhibition continues to be one of the largest cattle shows in the Maritimes\, and a showcase for local 4H clubs. This years entertainment includes hypnotist Jason Cyrus Aug 30 at 8 and Hal Bruce Sept 1 at 7. There will be lots of activities for children\, including a children parade\, the Little Miss EX Contest and a kids corner. Buy your $15 week long exhibition pass in advance and you could win a Galaxy A5 from Eastlink wireless. And make sure you pick up a 100 year pin\, with all proceeds to the Cumberland County Exhibition. For more information call the office 902-447-3285. \n
URL:https://ckdh.com/event/100th-cumberland-county-exhibition/
END:VEVENT
BEGIN:VEVENT
DTSTART;VALUE=DATE:20180827
DTEND;VALUE=DATE:20180901
DTSTAMP:20260424T120205
CREATED:20180827T145813Z
LAST-MODIFIED:20180827T145813Z
UID:4826-1535328000-1535759999@ckdh.com
SUMMARY:Back To School Supplies pick up
DESCRIPTION:Back To School Supplies pick up is this week. In Amherst pick up is at Maggie’s Place on Elmwood Drive 9-4 til Thursday and 9-noon on Friday. In partnership with Cumberland Public Libraries\, filled backpacks will be available at library branches throughout Cumberland County\, except Amherst\, during their regular open hours til Friday. \n
URL:https://ckdh.com/event/back-to-school-supplies-pick-up/
END:VEVENT
BEGIN:VEVENT
DTSTART;TZID=America/Halifax:20180830T110000
DTEND;TZID=America/Halifax:20180830T130000
DTSTAMP:20260424T120205
CREATED:20180809T142202Z
LAST-MODIFIED:20180809T142202Z
UID:4806-1535626800-1535634000@ckdh.com
SUMMARY:End of Summer Community BBQ
DESCRIPTION:The End of Summer Community BBQ is Thursday Aug 30\, 11-1 at Bill Johnstone Memorial Park in Sackville. The BBQ is free. There will be live music\, games for the kids and a bouncy castle. \n
URL:https://ckdh.com/event/end-of-summer-community-bbq/
END:VEVENT
BEGIN:VEVENT
DTSTART;TZID=America/Halifax:20180830T160000
DTEND;TZID=America/Halifax:20180830T180000
DTSTAMP:20260424T120205
CREATED:20180829T131103Z
LAST-MODIFIED:20180829T131103Z
UID:4845-1535644800-1535652000@ckdh.com
SUMMARY:Open House - Willow Street Infrastructure
DESCRIPTION:The Town of Amherst will host an open house at Town Hall at 98 Victoria Street East Thursday afternoon between 4 and 6 to provide information on Phase 1 of the Willow Street infrastructure renewal project. \nThis phase will include the renewal of some of the existing water\, sanitary sewer and storm sewer systems as well as the reconstruction and resurfacing of the road in the project area\, which is Willow Street between Spring and East Pleasant streets. \nTown staff will be on hand to explain the project in more detail to those who drop in to the open house. \n
URL:https://ckdh.com/event/open-house-willow-street-infrastructure/
END:VEVENT
END:VCALENDAR