BEGIN:VCALENDAR
VERSION:2.0
PRODID:-//CKDH - ECPv4.6.26//NONSGML v1.0//EN
CALSCALE:GREGORIAN
METHOD:PUBLISH
X-WR-CALNAME:CKDH
X-ORIGINAL-URL:https://ckdh.com
X-WR-CALDESC:Events for CKDH
BEGIN:VEVENT
DTSTART;VALUE=DATE:20180911
DTEND;VALUE=DATE:20180915
DTSTAMP:20260423T062700
CREATED:20180910T152419Z
LAST-MODIFIED:20180910T152419Z
UID:4905-1536624000-1536969599@ckdh.com
SUMMARY:Call for Chamber Business Awards Nominations
DESCRIPTION:The Amherst and Area Chamber of Commerce is bringing back their Business Awards and Gala Dinner in October. The Chamber is now accepting nominations for Business of the Year in two categories\, businesses with fewer than 5 employees and businesses with over 6 employees. Other awards are for Not for Profit and Exporter of the year. Nominations close on Friday. You can go to the Chamber website\, amherstchamberns.ca and find the nomination forms or call the Chamber office at 902-667-8186. \n
URL:https://ckdh.com/event/call-for-chamber-business-awards-nominations/
END:VEVENT
BEGIN:VEVENT
DTSTART;VALUE=DATE:20180913
DTEND;VALUE=DATE:20180917
DTSTAMP:20260423T062700
CREATED:20180904T132243Z
LAST-MODIFIED:20180904T132243Z
UID:4899-1536796800-1537142399@ckdh.com
SUMMARY:"A" Fest
DESCRIPTION:“A” Fest is Sept 13-16 in Amherst. There will be entertainment\, food and fun for the whole family. Amoung the events is Hodge Podge Night Market\, the Ramblers home opener\, a fashion show and art gala\, a family parade\, family fun day and family date night and much more. Details at Amherst.ca or on the Amherst Recreation Department facebook page. \n
URL:https://ckdh.com/event/a-fest/
END:VEVENT
BEGIN:VEVENT
DTSTART;TZID=America/Halifax:20180914T173000
DTEND;TZID=America/Halifax:20180914T173000
DTSTAMP:20260423T062700
CREATED:20180802T113753Z
LAST-MODIFIED:20180802T113753Z
UID:4789-1536946200-1536946200@ckdh.com
SUMMARY:Amherst Rotary Lobster Party
DESCRIPTION:Join the Amherst Rotary Club of Amherst their annual steak\, lobster and libations celebration\, a Lobster Party\, Friday Sept 14 at 5:30. Tickets are $35 and available from Barry Helm at 902-694-2155 or lacey Fisher at 902-664-6206. \n
URL:https://ckdh.com/event/amherst-rotary-lobster-party/
END:VEVENT
END:VCALENDAR