BEGIN:VCALENDAR
VERSION:2.0
PRODID:-//CKDH - ECPv4.6.26//NONSGML v1.0//EN
CALSCALE:GREGORIAN
METHOD:PUBLISH
X-WR-CALNAME:CKDH
X-ORIGINAL-URL:https://ckdh.com
X-WR-CALDESC:Events for CKDH
BEGIN:VEVENT
DTSTART;VALUE=DATE:20180913
DTEND;VALUE=DATE:20180917
DTSTAMP:20260423T025637
CREATED:20180904T132243Z
LAST-MODIFIED:20180904T132243Z
UID:4899-1536796800-1537142399@ckdh.com
SUMMARY:"A" Fest
DESCRIPTION:“A” Fest is Sept 13-16 in Amherst. There will be entertainment\, food and fun for the whole family. Amoung the events is Hodge Podge Night Market\, the Ramblers home opener\, a fashion show and art gala\, a family parade\, family fun day and family date night and much more. Details at Amherst.ca or on the Amherst Recreation Department facebook page. \n
URL:https://ckdh.com/event/a-fest/
END:VEVENT
BEGIN:VEVENT
DTSTART;TZID=America/Halifax:20180916T090000
DTEND;TZID=America/Halifax:20180916T210000
DTSTAMP:20260423T025637
CREATED:20180831T132658Z
LAST-MODIFIED:20180831T132658Z
UID:4879-1537088400-1537131600@ckdh.com
SUMMARY:Frank Deshenes Memorial Ride
DESCRIPTION:The Frank Deshenes Memorial Ride is Sunday Sept 9\, from the Canadian Tire Parking lot. The ride will be to 250 kilometers\, to represent the 2500 km ride that Frank intended to complete. Kickstands up at 10 sharp. Ride patches will be available on site for $10 each. Proceeds to support Frankie’s Move Over Law. \n
URL:https://ckdh.com/event/frank-deshenes-memorial-ride/
END:VEVENT
BEGIN:VEVENT
DTSTART;TZID=America/Halifax:20180916T090000
DTEND;TZID=America/Halifax:20180916T090000
DTSTAMP:20260423T025637
CREATED:20180904T132200Z
LAST-MODIFIED:20180904T132200Z
UID:4897-1537088400-1537088400@ckdh.com
SUMMARY:Terry Fox Run
DESCRIPTION:The Terry Fox Run is Sunday Sept 16. Registration for the 5K and 10K is at Dickey Park at 9\, with start at 10. Run\, walk or ride. To start your fundraising you can go the terryfox.org. For more information\, contact Monique at 902-669-9052. \n  \n
URL:https://ckdh.com/event/terry-fox-run-2/
END:VEVENT
END:VCALENDAR