BEGIN:VCALENDAR
VERSION:2.0
PRODID:-//CKDH - ECPv4.6.26//NONSGML v1.0//EN
CALSCALE:GREGORIAN
METHOD:PUBLISH
X-WR-CALNAME:CKDH
X-ORIGINAL-URL:https://ckdh.com
X-WR-CALDESC:Events for CKDH
BEGIN:VEVENT
DTSTART;VALUE=DATE:20180917
DTEND;VALUE=DATE:20180924
DTSTAMP:20260424T091343
CREATED:20180910T153419Z
LAST-MODIFIED:20180910T153419Z
UID:4919-1537142400-1537747199@ckdh.com
SUMMARY:Tim Horton's Smile Cookie Campaign
DESCRIPTION:The United Way of Cumberland County kicks off it’s Annual Fund Raising Campaign with Smile cookies from Tim Hortons next week. Cookies cost $1\, with proceeds to the United Way. That one Cumberland County business\, raised over $6700 in one week. What is your business doing to support the United Way? Got a fund raising idea\, call 902-667-2203\, or 902-694-2411. \n
URL:https://ckdh.com/event/tim-hortons-smile-cookie-campaign/
END:VEVENT
BEGIN:VEVENT
DTSTART;TZID=America/Halifax:20180920T110000
DTEND;TZID=America/Halifax:20180922T150000
DTSTAMP:20260424T091343
CREATED:20180920T093617Z
LAST-MODIFIED:20180920T093617Z
UID:4935-1537441200-1537628400@ckdh.com
SUMMARY:Bioblitz Event -  Amherst Shore Provincial Park
DESCRIPTION:Clean Foundation invites the public to join a very special citizen science Bioblitz Event at the Amherst Shore Provincial Park on Saturday\, from 11am to 3pm. It’s a unique opportunity to explore a saltmarsh and learn about and catalogue the diversity of species that live there. If you want to keep an inventory of the species found\, smart phone users can download the iNaturalist app\, or bring your camera and upload the photos into iNaturalist through yourhome computer after the event. Interpretative volunteers will be on hand to assist in identifying and cataloguing plants\, animals and insects found on site. \n  \n
URL:https://ckdh.com/event/bioblitz-event-amherst-shore-provincial-park/
END:VEVENT
BEGIN:VEVENT
DTSTART;TZID=America/Halifax:20180920T180000
DTEND;TZID=America/Halifax:20180920T180000
DTSTAMP:20260424T091343
CREATED:20180920T093455Z
LAST-MODIFIED:20180920T093455Z
UID:4933-1537466400-1537466400@ckdh.com
SUMMARY:3D Event -  Northumberland Community Curling Club
DESCRIPTION:The Northumberland Community Curling Club is presenting a 3D event this Saturday – Dinner\, Dance and 50/50 Draw\, Doors open at 6. Dinner will be catered by Inn the Elms\, with music from Second Toe. Members and guests are welcome. Tickets are $50 and available from Anne Gillis 902-243-3313. \n
URL:https://ckdh.com/event/3d-event-northumberland-community-curling-club/
END:VEVENT
END:VCALENDAR