BEGIN:VCALENDAR
VERSION:2.0
PRODID:-//CKDH - ECPv4.6.26//NONSGML v1.0//EN
CALSCALE:GREGORIAN
METHOD:PUBLISH
X-WR-CALNAME:CKDH
X-ORIGINAL-URL:https://ckdh.com
X-WR-CALDESC:Events for CKDH
BEGIN:VEVENT
DTSTART;VALUE=DATE:20180917
DTEND;VALUE=DATE:20180924
DTSTAMP:20260422T163642
CREATED:20180910T153419Z
LAST-MODIFIED:20180910T153419Z
UID:4919-1537142400-1537747199@ckdh.com
SUMMARY:Tim Horton's Smile Cookie Campaign
DESCRIPTION:The United Way of Cumberland County kicks off it’s Annual Fund Raising Campaign with Smile cookies from Tim Hortons next week. Cookies cost $1\, with proceeds to the United Way. That one Cumberland County business\, raised over $6700 in one week. What is your business doing to support the United Way? Got a fund raising idea\, call 902-667-2203\, or 902-694-2411. \n
URL:https://ckdh.com/event/tim-hortons-smile-cookie-campaign/
END:VEVENT
BEGIN:VEVENT
DTSTART;TZID=America/Halifax:20180920T110000
DTEND;TZID=America/Halifax:20180922T150000
DTSTAMP:20260422T163642
CREATED:20180920T093617Z
LAST-MODIFIED:20180920T093617Z
UID:4935-1537441200-1537628400@ckdh.com
SUMMARY:Bioblitz Event -  Amherst Shore Provincial Park
DESCRIPTION:Clean Foundation invites the public to join a very special citizen science Bioblitz Event at the Amherst Shore Provincial Park on Saturday\, from 11am to 3pm. It’s a unique opportunity to explore a saltmarsh and learn about and catalogue the diversity of species that live there. If you want to keep an inventory of the species found\, smart phone users can download the iNaturalist app\, or bring your camera and upload the photos into iNaturalist through yourhome computer after the event. Interpretative volunteers will be on hand to assist in identifying and cataloguing plants\, animals and insects found on site. \n  \n
URL:https://ckdh.com/event/bioblitz-event-amherst-shore-provincial-park/
END:VEVENT
BEGIN:VEVENT
DTSTART;TZID=America/Halifax:20180921T120000
DTEND;TZID=America/Halifax:20180922T170000
DTSTAMP:20260422T163642
CREATED:20180920T092835Z
LAST-MODIFIED:20180920T092835Z
UID:4929-1537531200-1537635600@ckdh.com
SUMMARY:Quilt Show and Sale
DESCRIPTION:The Sunrise Quilt Guild presents their 6th Annual Quilt Show and Sale Friday from 12 – 6 and Saturday\, from 10 – 5\, at the Fraser Cultural Centre\, in Tatamagouche. Mrs. Pugsleys Emporium will be there both days\, there will be door prizes as well as demonstrations. $5 admission includes light refreshments. Location is accessible for all. \n
URL:https://ckdh.com/event/quilt-show-and-sale/
END:VEVENT
BEGIN:VEVENT
DTSTART;TZID=America/Halifax:20180922T130000
DTEND;TZID=America/Halifax:20180922T160000
DTSTAMP:20260422T163642
CREATED:20180910T152519Z
LAST-MODIFIED:20180910T152519Z
UID:4907-1537621200-1537632000@ckdh.com
SUMMARY:Autumn in Flying Colors Art Exhibit
DESCRIPTION:The Autumn in Flying Colors Art Exhibit is Sat Sept 22-Sunday Oct 14\, at the Flying Colors Gallery and Retreat 3120 Highway 302 in Maccan. The opening is Saturday Sept 22 from 1-4\, with 3 artists\, Dale Fehr-painting\, Deborah Emslie-photography and Jay Jasper-pottery. Refreshments will be served. \n
URL:https://ckdh.com/event/autumn-in-flying-colors-art-exhibit/
END:VEVENT
BEGIN:VEVENT
DTSTART;TZID=America/Halifax:20180922T193000
DTEND;TZID=America/Halifax:20180922T193000
DTSTAMP:20260422T163642
CREATED:20180920T093146Z
LAST-MODIFIED:20180920T093146Z
UID:4931-1537644600-1537644600@ckdh.com
SUMMARY:Music at Trinity presents the N.S. Youth Choir
DESCRIPTION:Music at Trinity presents the N.S. Youth Choir\, Saturday at 7:30 at Trinity St Stephens United Church. Tickets are $20 for adults. Those aged 7-18 accompanied by an adult ticket holder\, will be admitted free. Tickets at the church office at the door\, or call 902-667-8483. \n  \n
URL:https://ckdh.com/event/music-at-trinity-presents-the-n-s-youth-choir/
END:VEVENT
BEGIN:VEVENT
DTSTART;TZID=America/Halifax:20180922T210000
DTEND;TZID=America/Halifax:20180922T210000
DTSTAMP:20260422T163642
CREATED:20180912T111537Z
LAST-MODIFIED:20180912T111537Z
UID:4922-1537650000-1537650000@ckdh.com
SUMMARY:Tails and Ales Beer Fest
DESCRIPTION:The L.A. Animal Shelter is hosting Tails and Ales Beer Fest\, Sat Sept 22. 9-1\, at the Amherst Curling Club. Music will be by Derailed. Tickets are $12\, and available at the Shelter\, Buds to Blossums\, Copper Tree Boutique\, Shur Gain Feeds ‘n’ Needs\, Glamorama and from board members. \n
URL:https://ckdh.com/event/tails-and-ales-beer-fest/
END:VEVENT
END:VCALENDAR