BEGIN:VCALENDAR
VERSION:2.0
PRODID:-//CKDH - ECPv4.6.26//NONSGML v1.0//EN
CALSCALE:GREGORIAN
METHOD:PUBLISH
X-WR-CALNAME:CKDH
X-ORIGINAL-URL:https://ckdh.com
X-WR-CALDESC:Events for CKDH
BEGIN:VEVENT
DTSTART;TZID=America/Halifax:20180929T080000
DTEND;TZID=America/Halifax:20180929T130000
DTSTAMP:20260420T002101
CREATED:20180831T133108Z
LAST-MODIFIED:20180831T133108Z
UID:4881-1538208000-1538226000@ckdh.com
SUMMARY:Holy Family Parish Fall Fair and Market
DESCRIPTION:The Holy Family Parish Fall Fair and Market is coming up Sept 29 from 8-1 at the Holy family Parish Hall. There will be an indoor yard sale and market\, a kids play zone\, Shirley’s Boutique\, a silent auction and basket draws. For lunch chilli and desserts. Sunday Sept 30\, it’s the annual Turkey Dinner from 4-6. There will be deliveries to seniors only. (Saturday til noon and on Sunday call 902-667-7400) \n
URL:https://ckdh.com/event/holy-family-parish-fall-fair-and-market-2/
END:VEVENT
BEGIN:VEVENT
DTSTART;TZID=America/Halifax:20180929T100000
DTEND;TZID=America/Halifax:20180929T120000
DTSTAMP:20260420T002101
CREATED:20180910T152732Z
LAST-MODIFIED:20180924T152727Z
UID:4909-1538215200-1538222400@ckdh.com
SUMMARY:Food Drive
DESCRIPTION:The Cumberland Y Service Club\, the Amherst Y’s Mennetes and other community volunteers are hold a door to door Food Drive in Amherst\, Saturday Sept 29 from 10-noon. If you are not going to be home\, leave your food bank bag on your front step. (The Food Bank desperately needs Kraft Dinner\, Apple Juice\, Peanut Butter\, Jam\, Cheese Whiz\, Instant Coffee\, White and Brown Sugar\, Canned Meat\, Toilet Tissue\, Deodorant\, Baby Food\, Canned Fruit.) \n
URL:https://ckdh.com/event/food-drive/
END:VEVENT
BEGIN:VEVENT
DTSTART;TZID=America/Halifax:20180929T160000
DTEND;TZID=America/Halifax:20180929T180000
DTSTAMP:20260420T002101
CREATED:20180924T151241Z
LAST-MODIFIED:20180924T151241Z
UID:4945-1538236800-1538244000@ckdh.com
SUMMARY:Church Supper - Wesley St Matthews
DESCRIPTION:There’s a Church Supper at Wesley St Matthews United Church in Pugwash Saturday from 4-6. They will be serving meat loaf and potato scallop with apple crisp for dessert. The cost is $12 for adults\, $6 for 6-12 year olds and those under 5 eat free. Proceeds are for the church. \n
URL:https://ckdh.com/event/church-supper-wesley-st-matthews/
END:VEVENT
BEGIN:VEVENT
DTSTART;TZID=America/Halifax:20180929T160000
DTEND;TZID=America/Halifax:20180929T180000
DTSTAMP:20260420T002101
CREATED:20180924T151458Z
LAST-MODIFIED:20180924T151458Z
UID:4949-1538236800-1538244000@ckdh.com
SUMMARY:Turkey Supper - Highland AME Church
DESCRIPTION:The Highland AME Church is holding a Turkey Supper Saturday from 4-6. Tickets are $12 for adults and $6 for those 12 and under. You can eat there or take it home\, and there will be free delivery within town limits. Call 902-669-0965 for tickets. \n
URL:https://ckdh.com/event/turkey-supper-highland-ame-church/
END:VEVENT
BEGIN:VEVENT
DTSTART;TZID=America/Halifax:20180929T200000
DTEND;TZID=America/Halifax:20180929T223000
DTSTAMP:20260420T002101
CREATED:20180924T150245Z
LAST-MODIFIED:20180924T150245Z
UID:4939-1538251200-1538260200@ckdh.com
SUMMARY:Amherst 50+ - Dance
DESCRIPTION:The Amherst 50+ Club is holding a Dance at their club on Croft Street\, Saturday from 8-10:30. Music will be by Jerry Metz and Lost Highway. There will be a 50/50 draw\, with 2 winners and a light lunch after the dance. Admission is by donation. \n
URL:https://ckdh.com/event/amherst-50-dance/
END:VEVENT
END:VCALENDAR