BEGIN:VCALENDAR
VERSION:2.0
PRODID:-//CKDH - ECPv4.6.26//NONSGML v1.0//EN
CALSCALE:GREGORIAN
METHOD:PUBLISH
X-WR-CALNAME:CKDH
X-ORIGINAL-URL:https://ckdh.com
X-WR-CALDESC:Events for CKDH
BEGIN:VEVENT
DTSTART;VALUE=DATE:20181015
DTEND;VALUE=DATE:20181025
DTSTAMP:20260422T085104
CREATED:20181015T154855Z
LAST-MODIFIED:20181015T154855Z
UID:5046-1539561600-1540425599@ckdh.com
SUMMARY:Y Citrus Sale
DESCRIPTION:The Cumberland Y Service Club’s Annual Citrus and Apple Sale is underway. Place your order until Wed Oct 24\, for South African oranges and red grapefruit and Stirling apples\, by calling 902-667-3479. \n
URL:https://ckdh.com/event/y-citrus-sale/
END:VEVENT
BEGIN:VEVENT
DTSTART;TZID=America/Halifax:20181016T070000
DTEND;TZID=America/Halifax:20181016T210000
DTSTAMP:20260422T085104
CREATED:20181011T154705Z
LAST-MODIFIED:20181011T154705Z
UID:5021-1539673200-1539723600@ckdh.com
SUMMARY:Tourism Strategic Plan Public Input Meeting
DESCRIPTION:The Town of Sackville will be holding a Tourism Strategic Plan Public Input Meeting\, Tuesday Oct 16\, 7 to 9  in Council Chambers at Town Hall. Pre-registration for this session is not required. There will be the same short presentation on Tourism related initiatives\, followed by discussion of plans for next year and ideas that members of the public might wish to present. For more information call 506-364-4938. \n
URL:https://ckdh.com/event/tourism-strategic-plan-public-input-meeting/
END:VEVENT
END:VCALENDAR