BEGIN:VCALENDAR
VERSION:2.0
PRODID:-//CKDH - ECPv4.6.26//NONSGML v1.0//EN
CALSCALE:GREGORIAN
METHOD:PUBLISH
X-WR-CALNAME:CKDH
X-ORIGINAL-URL:https://ckdh.com
X-WR-CALDESC:Events for CKDH
BEGIN:VEVENT
DTSTART;TZID=America/Halifax:20191210T190000
DTEND;TZID=America/Halifax:20191210T210000
DTSTAMP:20260419T174736
CREATED:20191119T150927Z
LAST-MODIFIED:20191119T150927Z
UID:7090-1576004400-1576011600@ckdh.com
SUMMARY:Estate Planning Seminar
DESCRIPTION:There will be an Estate Planning Seminar\, Tuesday Dec 10 from 7-9\, at the Cumberland County Museum and Archives. Bill Fairbanks will introduce you to wills\, power of attorney\, medical directive and living wills. Admission is free. \n
URL:https://ckdh.com/event/estate-planning-seminar/
END:VEVENT
END:VCALENDAR