BEGIN:VCALENDAR
VERSION:2.0
PRODID:-//CKDH - ECPv4.6.26//NONSGML v1.0//EN
CALSCALE:GREGORIAN
METHOD:PUBLISH
X-WR-CALNAME:CKDH
X-ORIGINAL-URL:https://ckdh.com
X-WR-CALDESC:Events for CKDH
BEGIN:VEVENT
DTSTART;TZID=America/Halifax:20191216T193000
DTEND;TZID=America/Halifax:20191216T193000
DTSTAMP:20260420T031130
CREATED:20191112T172806Z
LAST-MODIFIED:20191112T172806Z
UID:6992-1576524600-1576524600@ckdh.com
SUMMARY:One Christmas Carol - Oxford
DESCRIPTION:Showcase Productions presents One Christmas Carol\, Monday Dec 16 at 7:30 at Oxford Capitol Theatre. Dicken’s famous story is stripped down. No scenery\, No costumes. Just one actor\, three unmatched chairs and over 35 distinct characters. Tickets are $15 and available by calling Eleanor Crowley @ 902-447-3040. \n
URL:https://ckdh.com/event/one-christmas-carol-oxford/
END:VEVENT
END:VCALENDAR