BEGIN:VCALENDAR
VERSION:2.0
PRODID:-//CKDH - ECPv4.6.26//NONSGML v1.0//EN
CALSCALE:GREGORIAN
METHOD:PUBLISH
X-WR-CALNAME:CKDH
X-ORIGINAL-URL:https://ckdh.com
X-WR-CALDESC:Events for CKDH
BEGIN:VEVENT
DTSTART;TZID=America/Halifax:20191217T193000
DTEND;TZID=America/Halifax:20191219T193000
DTSTAMP:20260420T082247
CREATED:20191104T165644Z
LAST-MODIFIED:20191104T165644Z
UID:6958-1576611000-1576783800@ckdh.com
SUMMARY:One Christmas Carol
DESCRIPTION:Showcase Productions presents One Christmas Carol\, Dec 17-19 and December 21 at 7:30 at the Community Credit Union Business Innovation Center. Dicken’s famous story is stripped down. No scenery\, No costumes. Just one actor and over 35 distinct characters. Tickets are $15 and available by calling 902-667-2359. \n
URL:https://ckdh.com/event/one-christmas-carol/
END:VEVENT
BEGIN:VEVENT
DTSTART;TZID=America/Halifax:20191219T150000
DTEND;TZID=America/Halifax:20191219T160000
DTSTAMP:20260420T082247
CREATED:20191209T140412Z
LAST-MODIFIED:20191209T140412Z
UID:7209-1576767600-1576771200@ckdh.com
SUMMARY:Holiday Party
DESCRIPTION:There’s a Holiday Party at the Springhill Library Thursday Dec 19 from 3-4. There will be stories\, games and crafts. It’s for grades P-6. \n
URL:https://ckdh.com/event/holiday-party/
END:VEVENT
BEGIN:VEVENT
DTSTART;TZID=America/Halifax:20191219T180000
DTEND;TZID=America/Halifax:20191219T180000
DTSTAMP:20260420T082247
CREATED:20191216T165902Z
LAST-MODIFIED:20191216T165902Z
UID:7238-1576778400-1576778400@ckdh.com
SUMMARY:Nutcracker On Ice
DESCRIPTION:The Amherst Skating Club StarSkate Program proudly presents the Nutcracker On Ice\, Thursday at 6 at the Amherst Stadium. Admission is free\, but donations to the Food Bank would be appreciated. \n
URL:https://ckdh.com/event/nutcracker-on-ice/
END:VEVENT
BEGIN:VEVENT
DTSTART;TZID=America/Halifax:20191219T190000
DTEND;TZID=America/Halifax:20191219T190000
DTSTAMP:20260420T082247
CREATED:20191113T162544Z
LAST-MODIFIED:20191113T162544Z
UID:7059-1576782000-1576782000@ckdh.com
SUMMARY:A Gunning and Cornier Christmas
DESCRIPTION:2019 East Coast Music Award Winners Dave Gunning & JP Cormier are coming to the Oxford Capitol Theatre Thursday Dec 19. A Gunning & Cormier Christmas will feature new & old favorites for some great times and good laughs. Show starts at 7. Advance Tickets: $25.00 plus tax and service. Door Tickets: $30.00 plus tax and service. \n
URL:https://ckdh.com/event/a-gunning-and-cornier-christmas/
END:VEVENT
END:VCALENDAR