BEGIN:VCALENDAR
VERSION:2.0
PRODID:-//CKDH - ECPv4.6.26//NONSGML v1.0//EN
CALSCALE:GREGORIAN
METHOD:PUBLISH
X-WR-CALNAME:CKDH
X-ORIGINAL-URL:https://ckdh.com
X-WR-CALDESC:Events for CKDH
BEGIN:VEVENT
DTSTART;VALUE=DATE:20191226
DTEND;VALUE=DATE:20191229
DTSTAMP:20260420T225837
CREATED:20191223T143148Z
LAST-MODIFIED:20191223T143148Z
UID:7253-1577318400-1577577599@ckdh.com
SUMMARY:CART
DESCRIPTION:CART\, Children and Adults Reading Together\, a program to introduce your pre-school age children to reading\, begins in January at Cumberland Public Libraries in Cumberland County. CART is open to children 2-4 with their parent\, grandparent or caregiver. The Program is free\, but does require an 8-week commitment. Space is limited so contact your local library in Amherst\, Springhill\, Oxford and Springhill for more information\, and register. \n
URL:https://ckdh.com/event/cart/
END:VEVENT
BEGIN:VEVENT
DTSTART;TZID=America/Halifax:20191228T140000
DTEND;TZID=America/Halifax:20191228T140000
DTSTAMP:20260420T225837
CREATED:20191216T170035Z
LAST-MODIFIED:20191216T170035Z
UID:7242-1577541600-1577541600@ckdh.com
SUMMARY:Turkey Buster Fun Curling
DESCRIPTION:The Amherst Curling Club invites you and your family and friends to Turkey Buster Fun Curling\, Saturday Dec 28 at 2. Members will help non-curlers try the sport and play some ends. There is no need to sign up\, just show up.. You can curl as long as you want \n  \n
URL:https://ckdh.com/event/turkey-buster-fun-curling/
END:VEVENT
END:VCALENDAR