BEGIN:VCALENDAR
VERSION:2.0
PRODID:-//CKDH - ECPv4.6.26//NONSGML v1.0//EN
CALSCALE:GREGORIAN
METHOD:PUBLISH
X-WR-CALNAME:CKDH
X-ORIGINAL-URL:https://ckdh.com
X-WR-CALDESC:Events for CKDH
BEGIN:VEVENT
DTSTART;VALUE=DATE:20191230
DTEND;VALUE=DATE:20191231
DTSTAMP:20260421T020157
CREATED:20191216T165945Z
LAST-MODIFIED:20191216T165945Z
UID:7240-1577664000-1577750399@ckdh.com
SUMMARY:FREE Hockey
DESCRIPTION:Cumberland County Minor Hockey is offering FREE hockey. Any new players aged 4\, 5 or 6 who would like to join hockey in 2020\, can now play the rest of this season for free. Your child will need to supply equipment for timbits play. Practices start Friday Jan. 3rd. For details call Mike LeBlanc by Dec 30 at 902-664-9999 or emailmandkleblanc@eastlink.ca \n
URL:https://ckdh.com/event/free-hockey/
END:VEVENT
END:VCALENDAR