BEGIN:VCALENDAR
VERSION:2.0
PRODID:-//CKDH - ECPv4.6.26//NONSGML v1.0//EN
CALSCALE:GREGORIAN
METHOD:PUBLISH
X-WR-CALNAME:CKDH
X-ORIGINAL-URL:https://ckdh.com
X-WR-CALDESC:Events for CKDH
BEGIN:VEVENT
DTSTART;TZID=America/Halifax:20200101T130000
DTEND;TZID=America/Halifax:20200101T150000
DTSTAMP:20260421T053222
CREATED:20191211T142028Z
LAST-MODIFIED:20191211T142028Z
UID:7215-1577883600-1577890800@ckdh.com
SUMMARY:Cowboy Town - New Year’s Day Celebration
DESCRIPTION:Cowboy Town and Spirit Ridge Farms 6th Annual New Year’s Day Celebration is  Wednesday Jan 1 from 1-3. There will be sleigh rides and hot chocolate or just sit around the bonfire. Admission is free. \n
URL:https://ckdh.com/event/cowboy-town-new-years-day-celebration/
END:VEVENT
END:VCALENDAR