BEGIN:VCALENDAR
VERSION:2.0
PRODID:-//CKDH - ECPv4.6.26//NONSGML v1.0//EN
CALSCALE:GREGORIAN
METHOD:PUBLISH
X-WR-CALNAME:CKDH
X-ORIGINAL-URL:https://ckdh.com
X-WR-CALDESC:Events for CKDH
BEGIN:VEVENT
DTSTART;TZID=America/Halifax:20200107T113000
DTEND;TZID=America/Halifax:20200107T123000
DTSTAMP:20260423T091506
CREATED:20200102T162053Z
LAST-MODIFIED:20200102T162053Z
UID:7273-1578396600-1578400200@ckdh.com
SUMMARY:Happy New Year Soup Luncheon
DESCRIPTION:There’s a Happy New Year Soup Luncheon Tuesday Jan 7 from 11:30-12:30 at the River Hebert-Joggins United Church in River Hebert. This month they are serving up Hamburger Soup\, Chicken Soup or Haddock Chowder. Cost is $9. Call Carol Linkletter at 902-251-2893 if you would like more information. \n
URL:https://ckdh.com/event/happy-new-year-soup-luncheon/
END:VEVENT
END:VCALENDAR