BEGIN:VCALENDAR
VERSION:2.0
PRODID:-//CKDH - ECPv4.6.26//NONSGML v1.0//EN
CALSCALE:GREGORIAN
METHOD:PUBLISH
X-WR-CALNAME:CKDH
X-ORIGINAL-URL:https://ckdh.com
X-WR-CALDESC:Events for CKDH
BEGIN:VEVENT
DTSTART;TZID=America/Halifax:20200108T093000
DTEND;TZID=America/Halifax:20200108T113000
DTSTAMP:20260423T110615
CREATED:20200102T162135Z
LAST-MODIFIED:20200102T162135Z
UID:7275-1578475800-1578483000@ckdh.com
SUMMARY:Country Gospel Morning
DESCRIPTION:The Amherst Wesleyan Church is holding a Country Gospel Morning\, Wed Jan 8 from 9:30-11:30. Performers include Margie and Dave McLellan\, Terry McKinnon\, Ray and Linda Moore and more. The event is free. If you have questions call 902-6676-9126. \n
URL:https://ckdh.com/event/country-gospel-morning-9/
END:VEVENT
BEGIN:VEVENT
DTSTART;TZID=America/Halifax:20200108T140000
DTEND;TZID=America/Halifax:20200108T170000
DTSTAMP:20260423T110615
CREATED:20200107T083639Z
LAST-MODIFIED:20200107T083639Z
UID:7297-1578492000-1578502800@ckdh.com
SUMMARY:One on One Technology Sessions
DESCRIPTION:If you have a gadget\, you can’t figure out\, then contact the Springhill Library. Wednesday’s in January\, they are offering one on one technology sessions from 2-5. To book your appointment\, call 902-597-2211. \n
URL:https://ckdh.com/event/one-on-one-technology-sessions-3/2020-01-08/
END:VEVENT
BEGIN:VEVENT
DTSTART;TZID=America/Halifax:20200108T180000
DTEND;TZID=America/Halifax:20200108T190000
DTSTAMP:20260423T110615
CREATED:20200102T162247Z
LAST-MODIFIED:20200102T162247Z
UID:7277-1578506400-1578510000@ckdh.com
SUMMARY:Dance! Dance!
DESCRIPTION:If you have kids that like to move and dance\, the YMCA of Cumberland is offering a 6 week winter session of Dance! Dance! At the Parrsboro Elementary School. It’s Wednesdays 6-6:30 for 2-4 year olds and 6:30-7 for 5-8 year olds\, starting Wednesday Jan 8. The cost is $40\, payable on the first night. For more information\, call 902-667-9112 or email HFA@cumberland.ymca.ca. \n
URL:https://ckdh.com/event/dance-dance/
END:VEVENT
BEGIN:VEVENT
DTSTART;TZID=America/Halifax:20200108T190000
DTEND;TZID=America/Halifax:20200108T190000
DTSTAMP:20260423T110615
CREATED:20191219T150606Z
LAST-MODIFIED:20191219T150606Z
UID:7248-1578510000-1578510000@ckdh.com
SUMMARY:PTSD Peer Support Group
DESCRIPTION:Join the local PTSD Peer Support Group for coffee and conversation every Wednesday night at 7 at the Community Credit Union Business Innovation Center. There is also a meeting the first Wednesday of the month at 6 McFarlane Street Springhill. For more information Contact Jeff Casey 902-880-2232. \n
URL:https://ckdh.com/event/ptsd-peer-support-group/
END:VEVENT
BEGIN:VEVENT
DTSTART;TZID=America/Halifax:20200108T190000
DTEND;TZID=America/Halifax:20200108T190000
DTSTAMP:20260423T110615
CREATED:20200107T083810Z
LAST-MODIFIED:20200107T083810Z
UID:7302-1578510000-1578510000@ckdh.com
SUMMARY:Classic Movie Night
DESCRIPTION:It’s Classic Movie Night at the Springhill Library Wednesday. They will be showing the 1953 romance\, Roman Holiday\, with Audrey Hepburn and Gregory Peck\, Showtime is 7. Bring a friend and some snacks. \n
URL:https://ckdh.com/event/classic-movie-night-11/
END:VEVENT
END:VCALENDAR