BEGIN:VCALENDAR
VERSION:2.0
PRODID:-//CKDH - ECPv4.6.26//NONSGML v1.0//EN
CALSCALE:GREGORIAN
METHOD:PUBLISH
X-WR-CALNAME:CKDH
X-ORIGINAL-URL:https://ckdh.com
X-WR-CALDESC:Events for CKDH
BEGIN:VEVENT
DTSTART;VALUE=DATE:20200110
DTEND;VALUE=DATE:20200111
DTSTAMP:20260423T144156
CREATED:20191209T140311Z
LAST-MODIFIED:20191209T140311Z
UID:7207-1578614400-1578700799@ckdh.com
SUMMARY:Nominations -Sackville Sports Wall of Fame
DESCRIPTION:Nominations are being accepted til Jan 10th for 2020 Sackville Sports Wall of Fame. You can download a nomination form at sackville.com or contact Town Hall at 506-364-4930. The induction ceremony is in June at the Tantramar Veterans Memorial Civic Center \n
URL:https://ckdh.com/event/nominations-sackville-sports-wall-of-fame/
END:VEVENT
BEGIN:VEVENT
DTSTART;VALUE=DATE:20200110
DTEND;VALUE=DATE:20200111
DTSTAMP:20260423T144156
CREATED:20200109T161012Z
LAST-MODIFIED:20200109T161012Z
UID:7316-1578614400-1578700799@ckdh.com
SUMMARY:United Way Board members Needed
DESCRIPTION:The United Way of Cumberland County needs volunteer board members. If you are interested in shaping the future of Cumberland County\, bring your passion\, vision and drive to the Board of Directors of the United Way of Cumberland County. Get more information at amherst.unitedway.ca or call Cathy Skinner\, Executive Director at 902-667-2203. \n  \n
URL:https://ckdh.com/event/united-way-board-members-needed/
END:VEVENT
BEGIN:VEVENT
DTSTART;TZID=America/Halifax:20200110T180000
DTEND;TZID=America/Halifax:20200110T180000
DTSTAMP:20260423T144156
CREATED:20200107T083855Z
LAST-MODIFIED:20200107T083855Z
UID:7304-1578679200-1578679200@ckdh.com
SUMMARY:Teen Movie
DESCRIPTION:The Springhill Library is showing the teen movie Mia and the White Lion\, Friday at 6. The movie is for grades 6-12. Bring a friend and a snack. \n
URL:https://ckdh.com/event/teen-movie/
END:VEVENT
END:VCALENDAR