BEGIN:VCALENDAR
VERSION:2.0
PRODID:-//CKDH - ECPv4.6.26//NONSGML v1.0//EN
CALSCALE:GREGORIAN
METHOD:PUBLISH
X-WR-CALNAME:CKDH
X-ORIGINAL-URL:https://ckdh.com
X-WR-CALDESC:Events for CKDH
BEGIN:VEVENT
DTSTART;TZID=America/Halifax:20200111T080000
DTEND;TZID=America/Halifax:20200111T110000
DTSTAMP:20260423T162857
CREATED:20200102T161942Z
LAST-MODIFIED:20200102T161942Z
UID:7271-1578729600-1578740400@ckdh.com
SUMMARY:Breakfast
DESCRIPTION:The Knights of Columbus are serving breakfast Saturday Jan 11 from 8-11 at their hall on Robie Street. The cost is $7 per plate. \n
URL:https://ckdh.com/event/breakfast-16/
END:VEVENT
BEGIN:VEVENT
DTSTART;TZID=America/Halifax:20200111T160000
DTEND;TZID=America/Halifax:20200111T183000
DTSTAMP:20260423T162857
CREATED:20200102T162327Z
LAST-MODIFIED:20200102T162327Z
UID:7279-1578758400-1578767400@ckdh.com
SUMMARY:Welcome to Sackville Potluck
DESCRIPTION:The Sackville Refugee Response Coalition is hosting a Welcome to Sackville Potluck\, at the Sackville Pastoral Charge United Church of Canada\, Saturday Jan 11 from 4-6:30. Bring your favorite dish and welcome new comers to Sackville. \n
URL:https://ckdh.com/event/welcome-to-sackville-potluck/
END:VEVENT
BEGIN:VEVENT
DTSTART;TZID=America/Halifax:20200111T190000
DTEND;TZID=America/Halifax:20200111T190000
DTSTAMP:20260423T162857
CREATED:20191219T150318Z
LAST-MODIFIED:20191230T085438Z
UID:7246-1578769200-1578769200@ckdh.com
SUMMARY:Celebration of the Life of Ducky Quinn
DESCRIPTION:There’s a Benefit Dance and Celebration of  the Life of Ducky Quinn\, at the Knights of Columbus Hall\, Saturday Jan 11 starting at 7. Admission is a donation at the door. There will be a silent auction. Any items would be appreciated. You can drop it off at 53 Donald Avenue or the organizers can pick it up. Proceeds to help  Bonnie Quinn. \n
URL:https://ckdh.com/event/benefit-dance-for-ducky-quinn/
END:VEVENT
END:VCALENDAR