BEGIN:VCALENDAR
VERSION:2.0
PRODID:-//CKDH - ECPv4.6.26//NONSGML v1.0//EN
CALSCALE:GREGORIAN
METHOD:PUBLISH
X-WR-CALNAME:CKDH
X-ORIGINAL-URL:https://ckdh.com
X-WR-CALDESC:Events for CKDH
BEGIN:VEVENT
DTSTART;TZID=America/Halifax:20200328T130000
DTEND;TZID=America/Halifax:20200419T150000
DTSTAMP:20260419T210250
CREATED:20200309T155512Z
LAST-MODIFIED:20200318T083944Z
UID:7611-1585400400-1587308400@ckdh.com
SUMMARY:CANCELED Music at the Mall
DESCRIPTION:There’s Music at the Mall Saturday at the Amherst Center. This week Slim Pickens will be performing from 1-3. Admission is a donation\, and you have chances to win door prizes or the cash draw. There’s always great food at the Café and local art in the Artisans Gallery. Music at the Mall this Saturday at the Amherst Center. \n  \n
URL:https://ckdh.com/event/music-at-the-mall-33/
END:VEVENT
END:VCALENDAR