BEGIN:VCALENDAR
VERSION:2.0
PRODID:-//CKDH - ECPv4.6.26//NONSGML v1.0//EN
CALSCALE:GREGORIAN
METHOD:PUBLISH
X-WR-CALNAME:CKDH
X-ORIGINAL-URL:https://ckdh.com
X-WR-CALDESC:Events for CKDH
BEGIN:VEVENT
DTSTART;VALUE=DATE:20201029
DTEND;VALUE=DATE:20201030
DTSTAMP:20260419T143627
CREATED:20201021T142734Z
LAST-MODIFIED:20201029T111349Z
UID:8060-1603929600-1604015999@ckdh.com
SUMMARY:Coats for Cumberland
DESCRIPTION:Coats for Cumberland is collecting donations of new or gently used coats and outdoor winter gear for adults and children. You will find donation boxes at Maggie’s Place\, Tantramar Chevrolet and Sobeys\, as well as Town Hall and the Stadium in Amherst. In Springhill at the Miners Memorial Library. In Pugwash at the Coop. In Wallace at the Ultramar. In Oxford at the Sunset Thrift Store and at the Wentworth Learning Center. \n
URL:https://ckdh.com/event/coats-for-cumberland-4/
END:VEVENT
BEGIN:VEVENT
DTSTART;VALUE=DATE:20201029
DTEND;VALUE=DATE:20201030
DTSTAMP:20260419T143627
CREATED:20201029T140409Z
LAST-MODIFIED:20201029T140409Z
UID:8091-1603929600-1604015999@ckdh.com
SUMMARY:Amherst Lions Thursday Night Bingo is BACK!!
DESCRIPTION:Amherst Lions Thursday Night Bingo is back\, Nov. 5. They are under new rules and guidelines.  Masks are required and they have new seating capacity. Doors will open at 4:30. \n
URL:https://ckdh.com/event/amherst-lions-thursday-night-bingo-is-back-2/
END:VEVENT
BEGIN:VEVENT
DTSTART;TZID=America/Halifax:20201029T183000
DTEND;TZID=America/Halifax:20201030T203000
DTSTAMP:20260419T143627
CREATED:20201021T141909Z
LAST-MODIFIED:20201021T141909Z
UID:8058-1603996200-1604089800@ckdh.com
SUMMARY:Amherst Curling Club - Open House
DESCRIPTION:The Amherst Curling Club is holding an Open House for new and returning members\, Thursday and Friday Oct 29-30\, from 6:30-8″:30rop in for information on their leagues and the Learn to Curl Program. If you would like to try the game\, bring clean sneakers and wear warm\, loose fitting clothes. Instructors will be on hand to introduce you to the game. If you are a returning member\, throw a few rocks and complete your online membership. Contact the club for more information by emailing amherstcurlingclub@gmail.com \n
URL:https://ckdh.com/event/amherst-curling-club-open-house/
END:VEVENT
BEGIN:VEVENT
DTSTART;TZID=America/Halifax:20201029T190000
DTEND;TZID=America/Halifax:20201029T190000
DTSTAMP:20260419T143627
CREATED:20201014T105507Z
LAST-MODIFIED:20201014T105507Z
UID:8024-1603998000-1603998000@ckdh.com
SUMMARY:Night of Mystery: Murder at the Juice Joint
DESCRIPTION:Step back in time to a Roaring 20s speakeasy run by Rosie Marie where a medley of characters will make for a memorable night of intrigue and mystery. A Night of Mystery: Murder at the Juice Joint\, is Thursday Oct 29 at the Cumberland County Museum. \nOne of the guests is on another’s hit list\, and no one is safe from the consequences! \nTickets are $15 and available on eventbrite \nOnce you’ve purchased your ticket\, you’ll be sent a detailed character description and background information. Get your Roaring 20s theme costume together and arrive in full character. \nFor more information go to Night of Mystery: Murder at the Juice Joint on facebook. \n
URL:https://ckdh.com/event/night-of-mystery-murder-at-the-juice-joint/
END:VEVENT
END:VCALENDAR