BEGIN:VCALENDAR
VERSION:2.0
PRODID:-//CKDH - ECPv4.6.26//NONSGML v1.0//EN
CALSCALE:GREGORIAN
METHOD:PUBLISH
X-WR-CALNAME:CKDH
X-ORIGINAL-URL:https://ckdh.com
X-WR-CALDESC:Events for CKDH
BEGIN:VEVENT
DTSTART;TZID=America/Halifax:20201205T100000
DTEND;TZID=America/Halifax:20201205T140000
DTSTAMP:20260423T231904
CREATED:20201130T134146Z
LAST-MODIFIED:20201130T134146Z
UID:8205-1607162400-1607176800@ckdh.com
SUMMARY:Holly Jolly Christmas Drive
DESCRIPTION:The Holly Jolly Christmas Drive is on Saturday at the Amherst Stadium! They will be accepting food and toy donations along with letters to Santa in the parking lot from 10-2 .Drive-thru with your donation in support of the Amherst Food Bank\, the Amherst Toyota Toy Drive and in partnership with Canada Post. Please place donations or letters in your trunk or hatch for contactless pick up. Simply drive in to the drop-off area\, pop your trunk or hatch and someone will collect your donation. \n
URL:https://ckdh.com/event/holly-jolly-christmas-drive/
END:VEVENT
END:VCALENDAR