BEGIN:VCALENDAR
VERSION:2.0
PRODID:-//CKDH - ECPv4.6.26//NONSGML v1.0//EN
CALSCALE:GREGORIAN
METHOD:PUBLISH
X-WR-CALNAME:CKDH
X-ORIGINAL-URL:https://ckdh.com
X-WR-CALDESC:Events for CKDH
BEGIN:VEVENT
DTSTART;TZID=America/Halifax:20201206T110000
DTEND;TZID=America/Halifax:20201206T110000
DTSTAMP:20260424T012700
CREATED:20201123T143030Z
LAST-MODIFIED:20201123T143030Z
UID:8186-1607252400-1607252400@ckdh.com
SUMMARY:Free Movie For Dad's
DESCRIPTION:The Cumberland Dads – Peer Support for Fathers and Caregivers group at Maggies Place is hosting a Movie Day. It’s free movie time at the Amherst Cineplex\, Sunday Dec 6 at 11. Seats are limited because of COVID 19. Call Maggie’s Place to register at 902-667-7250. \n
URL:https://ckdh.com/event/free-movie-for-dads/
END:VEVENT
END:VCALENDAR