BEGIN:VCALENDAR
VERSION:2.0
PRODID:-//CKDH - ECPv4.6.26//NONSGML v1.0//EN
CALSCALE:GREGORIAN
METHOD:PUBLISH
X-WR-CALNAME:CKDH
X-ORIGINAL-URL:https://ckdh.com
X-WR-CALDESC:Events for CKDH
BEGIN:VEVENT
DTSTART;VALUE=DATE:20201208
DTEND;VALUE=DATE:20201209
DTSTAMP:20260424T060554
CREATED:20201123T143154Z
LAST-MODIFIED:20201123T143154Z
UID:8190-1607385600-1607471999@ckdh.com
SUMMARY:Christmas Kettle Campaign
DESCRIPTION:The Salvation Army’s largest Fundraiser of the year supports more than 56\,000 vulnerable people in the Maritimes. The Christmas Kettle Campaign goal this year is $1.8 million. Support kettle locations this year\, or make a donation on line at FilltheKettle.com or call 1-800-SAL-ARMY. \n
URL:https://ckdh.com/event/christmas-kettle-campaign-2/
END:VEVENT
BEGIN:VEVENT
DTSTART;VALUE=DATE:20201208
DTEND;VALUE=DATE:20201209
DTSTAMP:20260424T060554
CREATED:20201208T083749Z
LAST-MODIFIED:20201208T083749Z
UID:8225-1607385600-1607471999@ckdh.com
SUMMARY:Horizon Health -  Non-Urgent Health Care Needs
DESCRIPTION:If you have travelled between Nova Scotia and New Brunswick\, please do not present to the Emergency Department at the Sackville Memorial Hospital or the Moncton Hospital for non-urgent health care needs. This is to prevent the spread of COVID-19 in Horizon facilities. \nThe Government of New Brunswick updated its emergency order to state that unless exempt\, travellers entering New Brunswick are required to self-isolate for 14 days. This includes New Brunswick residents returning home. \n  \n
URL:https://ckdh.com/event/horizon-health-non-urgent-health-care-needs/
END:VEVENT
BEGIN:VEVENT
DTSTART;VALUE=DATE:20201208
DTEND;VALUE=DATE:20201209
DTSTAMP:20260424T060554
CREATED:20201208T084448Z
LAST-MODIFIED:20201208T084448Z
UID:8227-1607385600-1607471999@ckdh.com
SUMMARY:Christmas Services at Christ Church Anglican
DESCRIPTION:There will be 3 Christmas Services at Christ Church Anglican this year\, 4:30 and 8 on Christmas Eve\, and 10 on Christmas Day. Anyone is welcome to attend\, however you have to sign up in advance. Space is limited due to the need for social distancing\, and masks have to be worn during the entire service. You can sign up by calling 902-667-2415. \n
URL:https://ckdh.com/event/christmas-services-at-christ-church-anglican/
END:VEVENT
BEGIN:VEVENT
DTSTART;TZID=America/Halifax:20201208T190000
DTEND;TZID=America/Halifax:20201210T190000
DTSTAMP:20260424T060554
CREATED:20201109T145114Z
LAST-MODIFIED:20201109T145242Z
UID:8120-1607454000-1607626800@ckdh.com
SUMMARY:Andy Melanson in One Christmas Carol
DESCRIPTION:Showcase Productions presents Andy Melanson in One Christmas Carol. Three performances only Dec 8-10 at 7 at the Community Credit Union Business Innovation Center. Tickets are $20. Call 902-667-2359 or email scm000@gmail.com. COVID-19 seating is limited so book your tickets in advance. All proceeds to Showcase’s Scholarship Fund. \n
URL:https://ckdh.com/event/andy-melanson-in-one-christmas-carol/
END:VEVENT
END:VCALENDAR