BEGIN:VCALENDAR
VERSION:2.0
PRODID:-//CKDH - ECPv4.6.26//NONSGML v1.0//EN
CALSCALE:GREGORIAN
METHOD:PUBLISH
X-WR-CALNAME:CKDH
X-ORIGINAL-URL:https://ckdh.com
X-WR-CALDESC:Events for CKDH
BEGIN:VEVENT
DTSTART;VALUE=DATE:20210129
DTEND;VALUE=DATE:20210130
DTSTAMP:20260422T103532
CREATED:20210129T082541Z
LAST-MODIFIED:20210129T082541Z
UID:8364-1611878400-1611964799@ckdh.com
SUMMARY:Health Care Foundation Monthly 50/50 Jackpot Draw
DESCRIPTION:The Cumberland Health Care Foundation Monthly 50/50 Jackpot Draw is back\, with a special Valentine Draw. You could win 50% of the pot plus a Ted Baker ladies watch valued over $200. Get your tickets at rafflebox.ca/raffle/chcf. Ticket sales end Feb 10\, with the draw on Feb 12. Proceeds will support their Area of Greatest Need Fund. . It could be an urgent request for a piece of equipment\, support for programming\, service delivery\, or patient care. The Foundation is involved in many health care initiatives in Cumberland County and our goal is to support our professional health care teams as they strive to do all they can for our families\, friends\, and neighbors. Go to rafflebox.ca/raffle/chcf. \n
URL:https://ckdh.com/event/health-care-foundation-monthly-50-50-jackpot-draw/
END:VEVENT
BEGIN:VEVENT
DTSTART;VALUE=DATE:20210129
DTEND;VALUE=DATE:20210130
DTSTAMP:20260422T103532
CREATED:20210129T082800Z
LAST-MODIFIED:20210129T082800Z
UID:8368-1611878400-1611964799@ckdh.com
SUMMARY:Take-out Pancake Supper
DESCRIPTION:The Parish of Christ Church Take-out Pancake Supper is Friday\, February 12. The cost is $10. per person and includes pancakes\, sausages\, homemade beans\, roll & a large homemade cookie. Orders are pre-paid only. Call 902-667-2415\, 9 -1\, Monday –Friday. Orders accepted up to 1 Wednesday\, Feb. 10.  Pick up time 4-6 on Feb 12. The number to call again is 902-667-2415. \n
URL:https://ckdh.com/event/take-out-pancake-supper/
END:VEVENT
BEGIN:VEVENT
DTSTART;VALUE=DATE:20210129
DTEND;VALUE=DATE:20210130
DTSTAMP:20260422T103532
CREATED:20210129T134018Z
LAST-MODIFIED:20210129T134018Z
UID:8375-1611878400-1611964799@ckdh.com
SUMMARY:Sweetheart Supper take-out
DESCRIPTION:The Linden Community Hall is hosting a Sweetheart Supper take-out\, Sunday Feb 14th\, with pick up between 4 and 5. You have two meal choices\, Sweet and Sour Meatballs with veggie fried rice or Chicken Fettucine Alfredo. There are two dessert choices as well. Tickets are $15\, and you have to reserve your meal by Sunday Feb 7. Call Tracey at 902-297-0557 or Anita at 901-661-4340. \n
URL:https://ckdh.com/event/sweetheart-supper-take-out/
END:VEVENT
BEGIN:VEVENT
DTSTART;TZID=America/Halifax:20210129T193000
DTEND;TZID=America/Halifax:20210129T210000
DTSTAMP:20260422T103532
CREATED:20210125T155128Z
LAST-MODIFIED:20210125T155128Z
UID:8335-1611948600-1611954000@ckdh.com
SUMMARY:Second Toe - Facebook Live Music Event
DESCRIPTION:The band SECOND TOE\, is having their second\, Facebook Live Music Night  Friday\, 7:30 – 9 pm. They have chosen “AUTUMN HOUSE” (Shelter for women and children of abusive situations) to be the recipient of any funds donated during our event. This is a FREE public-family-friendly event and donations are not mandatory but are appreciated. Dale & Sarah Letcher of Big Fish will be dropping by for a few tunes. \n
URL:https://ckdh.com/event/second-toe-facebook-live-music-event/
END:VEVENT
END:VCALENDAR