BEGIN:VCALENDAR
VERSION:2.0
PRODID:-//CKDH - ECPv4.6.26//NONSGML v1.0//EN
CALSCALE:GREGORIAN
METHOD:PUBLISH
X-WR-CALNAME:CKDH
X-ORIGINAL-URL:https://ckdh.com
X-WR-CALDESC:Events for CKDH
BEGIN:VEVENT
DTSTART;TZID=America/Halifax:20210130T090000
DTEND;TZID=America/Halifax:20210130T130000
DTSTAMP:20260424T091424
CREATED:20210118T141959Z
LAST-MODIFIED:20210118T141959Z
UID:8324-1611997200-1612011600@ckdh.com
SUMMARY:MTA Bottle Drive For Relay For Life
DESCRIPTION:The Mount Allison Relay For Life Team is holding a bottle drive\, Saturday Jan 30 from 9-1. Drop off your donations at 18A Park Street. Or send them a direct message on Facebook\, Instagram or email relayforlifemta@mta.ca for pick up. \n  \n
URL:https://ckdh.com/event/mta-bottle-drive-for-relay-for-life/
END:VEVENT
END:VCALENDAR